BEGIN:VCALENDAR
VERSION:2.0
PRODID:DPCALENDAR
CALSCALE:GREGORIAN
BEGIN:VTIMEZONE
TZID:Europe/Berlin
X-MICROSOFT-CDO-TZID:4
BEGIN:STANDARD
DTSTART:20251026T010000
TZOFFSETFROM:+0200
TZOFFSETTO:+0100
TZNAME:CET
END:STANDARD
BEGIN:STANDARD
DTSTART:20261025T010000
TZOFFSETFROM:+0200
TZOFFSETTO:+0100
TZNAME:CET
END:STANDARD
BEGIN:DAYLIGHT
DTSTART:20260329T010000
TZOFFSETFROM:+0100
TZOFFSETTO:+0200
TZNAME:CEST
END:DAYLIGHT
END:VTIMEZONE
X-WR-TIMEZONE:Europe/Berlin
BEGIN:VEVENT
DTSTART;TZID=Europe/Berlin:20240601T090000
DTEND;TZID=Europe/Berlin:20240602T120000
UID:ADBD483C-8506-4B8D-B6DC-2FE0D52B4D1A
SUMMARY:Reitturnier des PSV "Blau-Weiß" Oberhof e.V.
CREATED:20240130T134116Z
DTSTAMP:20240130T134116Z
URL:https://www.pferdehof-rudolph.de/
DESCRIPTION:Traditionelles Reitturnier des PSV "Blau-Weiß" Oberhof e.V.. Es werden spannende Wettkämpfe zu Pferd geboten.\NDetaillierte Informationen folgen in Kürze.\NWeitere Informationen\N\NVeranstaltungszeitenSamstag, 07. September, 09:00 Uhr bis ca. 16:00 UhrSonntag, 08. September, 09:00 Uhr bis ca. 12:00 Uhr\NOrtTurnierplatz in Oberhof, Ortseingang 23948 Oberhof\NVeranstalterPSV "Blau-Weiß" Oberhof e.V., Auskünfte erteilt: Pferdehof Rudolph\N
X-ALT-DESC;FMTTYPE=text/html:<p><span style="font-size: 1rem;">Traditionelles Reitturnier des PSV "Blau-Weiß" Oberhof e.V.. Es werden spannende Wettkämpfe zu Pferd geboten.</span></p><p><span style="font-size: 1rem;">Detaillierte Informationen folgen in Kürze.</span></p><h4>Weitere Informationen</h4><ul><li>Veranstaltungszeiten<br>Samstag, 07. September, 09:00 Uhr bis ca. 16:00 Uhr<br>Sonntag, 08. September, 09:00 Uhr bis ca. 12:00 Uhr</li><li>Ort<br>Turnierplatz in Oberhof, Ortseingang 23948 Oberhof</li><li>Veranstalter<br>PSV "Blau-Weiß" Oberhof e.V., Auskünfte erteilt: Pferdehof Rudolph</li></ul>
LAST-MODIFIED:20240729T064532Z
SEQUENCE:15613456
LOCATION:Zur Allee\, 23948 Oberhof
GEO:53.94730080;11.22696310
X-LOCATION-DISPLAYNAME:Turnierplatz Pferdehof Rudolph
X-ACCESS:1
X-HITS:0
X-COLOR:3366cc
X-IMAGE-FULL:https://www.kluetz-mv.de/images/veranstaltungen/Reitturnier_September.jpg
X-IMAGE-FULL-ALT:Reiter mit Pferd über Hindernis springend.
X-IMAGE-INTRO:https://www.kluetz-mv.de/images/veranstaltungen/Reitturnier_September.jpg
X-IMAGE-INTRO-ALT:Reiter mit Pferd über Hindernis springend.
X-SHOW-END-TIME:1
END:VEVENT
BEGIN:VEVENT
DTSTART;TZID=Europe/Berlin:20240907T090000
DTEND;TZID=Europe/Berlin:20240908T120000
UID:779C4354-15FE-42A5-9145-70E5EF50AD75
SUMMARY:ABGESAGT -Reitturnier des PSV "Blau-Weiß" Oberhof e.V. 
CREATED:20240130T134116Z
DTSTAMP:20240130T134116Z
URL:https://www.pferdehof-rudolph.de/
DESCRIPTION:Die Veranstaltung findet leider nicht statt.
X-ALT-DESC;FMTTYPE=text/html:<p>Die Veranstaltung findet leider nicht statt.</p>
LAST-MODIFIED:20240904T061723Z
SEQUENCE:18808567
LOCATION:Zur Allee\, 23948 Oberhof
GEO:53.94730080;11.22696310
X-LOCATION-DISPLAYNAME:Turnierplatz Pferdehof Rudolph
X-ACCESS:1
X-HITS:0
X-COLOR:3366cc
X-IMAGE-FULL:https://www.kluetz-mv.de/images/veranstaltungen/Reitturnier_September.jpg
X-IMAGE-FULL-ALT:Reiter mit Pferd über Hindernis springend.
X-IMAGE-INTRO:https://www.kluetz-mv.de/images/veranstaltungen/Reitturnier_September.jpg
X-IMAGE-INTRO-ALT:Reiter mit Pferd über Hindernis springend.
X-SHOW-END-TIME:1
END:VEVENT
BEGIN:VEVENT
DTSTART;TZID=Europe/Berlin:20250906T090000
DTEND;TZID=Europe/Berlin:20250906T170000
UID:A6B96235-8AEE-407B-BB62-A8ACD3CCEF13
SUMMARY:Reitturnier des PSV "Blau-Weiß" Oberhof e.V. 
CREATED:20250131T134116Z
DTSTAMP:20250131T134116Z
URL:https://www.pferdehof-rudolph.de/
DESCRIPTION:Beim traditionellen Reitturnier in Oberhof werden spannende Wettkämpfe zu Pferd geboten. Egal, ob die Vierbeiner unter ihrem Reiter im Dressurviereck zeigen, wie gut sie „tanzen“ können oder ob sie im Springparcours bis zu 1.20 m große Hindernisse überwinden.\NDie Ausschreibung enthält 13 Prüfungen und Wettbewerbe. Auf dem Dressurviereck werden je zwei A- und L-Dressuren, sowie ein Dressur-Wettbewerb für Turniereinsteiger geritten. In acht Prüfungen geht es auf dem Springplatz über Hindernisse. Drei davon sind jungen 4- bis 7-jährigen Pferden gewidmet, in denen diese für ihre Rittigkeit und Springmanier Wertnoten bekommen. Für Turniereinsteiger gibt es einen Stilspring-Wettbewerb.\NDen Reitern stehen weiterhin zwei 90 und 100cm Springen (Kl. A) zur Verfügung. Es gibt ferner ein 110cm Springen (Kl. L). Sportlicher Höhepunkt ist ein mittelschweres Springen (120cm) das mit einer Siegerrunde für 25 Prozent der besten Reiter aus dem Umlauf ausgeschrieben ist. Das Dreigestirn Ina, Zwillingsschwester Gerlinde und Vater Frank Rudolph sind erfahrene Veranstalter und Garanten für einen zügigen Ablauf.  Für das leibliche Wohl von Teilnehmern und Gästen sorgt der gastgebende Pferdesportverein Oberhof mit Getränken, Kuchen, Eis, und Gegrilltem. \NFoto: Jana Pierstorff mit Brisco, (c) Jutta Wego\NWeitere Informationen\N\NVeranstaltungszeitenSamstag, 06. September 2025, 09:00 bis 17:00 Uhr(Hinweis für Turnierreiter: Online-Anmeldeschluss 19. August 2025)\NEintrittfrei\NOrtTurnierplatz in Oberhof, Zur Traktorenwerkstatt, 23948 Oberhof\NVeranstalterPSV "Blau-Weiß" Oberhof e.V., Ansprechpartnerin: Ina Rudolph, Tel. 0172 383 09 07\N
X-ALT-DESC;FMTTYPE=text/html:<p><strong>Beim traditionellen Reitturnier in Oberhof werden spannende Wettkämpfe zu Pferd geboten. Egal, ob die Vierbeiner unter ihrem Reiter im Dressurviereck zeigen, wie gut sie „tanzen“ können oder ob sie im Springparcours bis zu 1.20 m große Hindernisse überwinden.</strong></p><p>Die Ausschreibung enthält 13 Prüfungen und Wettbewerbe. Auf dem Dressurviereck werden je zwei A- und L-Dressuren, sowie ein Dressur-Wettbewerb für Turniereinsteiger geritten. In acht Prüfungen geht es auf dem Springplatz über Hindernisse. Drei davon sind jungen 4- bis 7-jährigen Pferden gewidmet, in denen diese für ihre Rittigkeit und Springmanier Wertnoten bekommen. Für Turniereinsteiger gibt es einen Stilspring-Wettbewerb.</p><p>Den Reitern stehen weiterhin zwei 90 und 100cm Springen (Kl. A) zur Verfügung. Es gibt ferner ein 110cm Springen (Kl. L). Sportlicher Höhepunkt ist ein mittelschweres Springen (120cm) das mit einer Siegerrunde für 25 Prozent der besten Reiter aus dem Umlauf ausgeschrieben ist. <br><br>Das Dreigestirn Ina, Zwillingsschwester Gerlinde und Vater Frank Rudolph sind erfahrene Veranstalter und Garanten für einen zügigen Ablauf.  Für das leibliche Wohl von Teilnehmern und Gästen sorgt der gastgebende Pferdesportverein Oberhof mit Getränken, Kuchen, Eis, und Gegrilltem. </p><p><span style="font-size: 12px;">Foto: Jana Pierstorff mit Brisco, (c) Jutta Wego</span></p><h4>Weitere Informationen</h4><ul><li>Veranstaltungszeiten<br>Samstag, 06. September 2025, 09:00 bis 17:00 Uhr<br>(Hinweis für Turnierreiter: Online-Anmeldeschluss 19. August 2025)</li><li>Eintritt<br>frei</li><li>Ort<br>Turnierplatz in Oberhof, Zur Traktorenwerkstatt, 23948 Oberhof</li><li>Veranstalter<br>PSV "Blau-Weiß" Oberhof e.V., Ansprechpartnerin: Ina Rudolph, Tel. 0172 383 09 07</li></ul>
LAST-MODIFIED:20250805T101433Z
SEQUENCE:16057997
LOCATION:Zur Allee\, 23948 Oberhof
GEO:53.94730080;11.22696310
X-LOCATION-DISPLAYNAME:Turnierplatz Pferdehof Rudolph
X-ACCESS:1
X-HITS:0
X-COLOR:3366cc
X-IMAGE-FULL:https://www.kluetz-mv.de/images/veranstaltungen/2025-Veranstaltungen/Pferdehof_JanaPierstorff_Jutta_Wego.jpg
X-IMAGE-FULL-ALT:Reiter mit Pferd über Hindernis springend.
X-IMAGE-INTRO:https://www.kluetz-mv.de/images/veranstaltungen/2025-Veranstaltungen/Pferdehof_JanaPierstorff_Jutta_Wego.jpg
X-IMAGE-INTRO-ALT:Reiter mit Pferd über Hindernis springend.
X-SHOW-END-TIME:1
END:VEVENT
BEGIN:VEVENT
DTSTART;TZID=Europe/Berlin:20260905T090000
DTEND;TZID=Europe/Berlin:20260906T170000
UID:0F436CA5-83A6-4315-9613-64479135FFE8
SUMMARY:2-tägiges Reitturnier des PSV "Blau-Weiß" Oberhof e.V. 
CREATED:20250131T134116Z
DTSTAMP:20250131T134116Z
URL:https://www.pferdehof-rudolph.de/
DESCRIPTION:Beim traditionellen Reitturnier in Oberhof werden spannende Wettkämpfe zu Pferd geboten. \NWeitere Informationen zur geplanten Veranstaltung folgen zu einem späteren Zeitpunkt.\NFoto: Jana Pierstorff mit Brisco, (c) Jutta Wego\NWeitere Informationen\N\NVeranstaltungszeiten05.-06. September 2026 (geplant)Eintrittfrei\NOrtTurnierplatz in Oberhof, Zur Traktorenwerkstatt, 23948 Oberhof\NVeranstalterPSV "Blau-Weiß" Oberhof e.V., Ansprechpartnerin: Ina Rudolph, Tel. 0172 383 09 07\N
X-ALT-DESC;FMTTYPE=text/html:<p><strong>Beim traditionellen Reitturnier in Oberhof werden spannende Wettkämpfe zu Pferd geboten. </strong></p><p><em>Weitere Informationen zur geplanten Veranstaltung folgen zu einem späteren Zeitpunkt.</em></p><p><span style="font-size: 12px;">Foto: Jana Pierstorff mit Brisco, (c) Jutta Wego</span></p><h4>Weitere Informationen</h4><ul><li>Veranstaltungszeiten<br>05.-06. September 2026 (geplant)<br>Eintritt<br>frei</li><li>Ort<br>Turnierplatz in Oberhof, Zur Traktorenwerkstatt, 23948 Oberhof</li><li>Veranstalter<br>PSV "Blau-Weiß" Oberhof e.V., Ansprechpartnerin: Ina Rudolph, Tel. 0172 383 09 07</li></ul>
LAST-MODIFIED:20251118T142954Z
SEQUENCE:25145318
LOCATION:Zur Allee\, 23948 Oberhof
GEO:53.94730080;11.22696310
X-LOCATION-DISPLAYNAME:Turnierplatz Pferdehof Rudolph
X-ACCESS:1
X-HITS:0
X-COLOR:3366cc
X-IMAGE-FULL:https://www.kluetz-mv.de/images/veranstaltungen/2025-Veranstaltungen/Pferdehof_JanaPierstorff_Jutta_Wego.jpg
X-IMAGE-FULL-ALT:Reiter mit Pferd über Hindernis springend.
X-IMAGE-INTRO:https://www.kluetz-mv.de/images/veranstaltungen/2025-Veranstaltungen/Pferdehof_JanaPierstorff_Jutta_Wego.jpg
X-IMAGE-INTRO-ALT:Reiter mit Pferd über Hindernis springend.
X-SHOW-END-TIME:1
END:VEVENT
END:VCALENDAR